BEGIN:VCALENDAR
VERSION:2.0
PRODID:-//UW Diabetes Institute - ECPv6.15.20//NONSGML v1.0//EN
CALSCALE:GREGORIAN
METHOD:PUBLISH
X-WR-CALNAME:UW Diabetes Institute
X-ORIGINAL-URL:https://uwmdi.org
X-WR-CALDESC:Events for UW Diabetes Institute
REFRESH-INTERVAL;VALUE=DURATION:PT1H
X-Robots-Tag:noindex
X-PUBLISHED-TTL:PT1H
BEGIN:VTIMEZONE
TZID:UTC
BEGIN:STANDARD
TZOFFSETFROM:+0000
TZOFFSETTO:+0000
TZNAME:UTC
DTSTART:20220101T000000
END:STANDARD
END:VTIMEZONE
BEGIN:VEVENT
DTSTART;TZID=UTC:20230411T150000
DTEND;TZID=UTC:20230411T160000
DTSTAMP:20260423T095340
CREATED:20220929T200152Z
LAST-MODIFIED:20220929T200152Z
UID:6512-1681225200-1681228800@uwmdi.org
SUMMARY:UWMDI Research Training Conference – Basic Research Spotlight
DESCRIPTION:Basic Research Spotlight with Jeff Rasmussen \nE130A-B\nTuesday\, April 11\, 2023\n3:00 – 4:00 PM\nZoom/in-person hybrid event.  \nE130A-B
URL:https://uwmdi.org/event/uwmdi-research-training-conference-basic-research-spotlight-2/
END:VEVENT
END:VCALENDAR