BEGIN:VCALENDAR
VERSION:2.0
PRODID:-//UW Diabetes Institute - ECPv6.15.20//NONSGML v1.0//EN
CALSCALE:GREGORIAN
METHOD:PUBLISH
X-ORIGINAL-URL:https://uwmdi.org
X-WR-CALDESC:Events for UW Diabetes Institute
REFRESH-INTERVAL;VALUE=DURATION:PT1H
X-Robots-Tag:noindex
X-PUBLISHED-TTL:PT1H
BEGIN:VTIMEZONE
TZID:UTC
BEGIN:STANDARD
TZOFFSETFROM:+0000
TZOFFSETTO:+0000
TZNAME:UTC
DTSTART:20230101T000000
END:STANDARD
END:VTIMEZONE
BEGIN:VEVENT
DTSTART;TZID=UTC:20241203T150000
DTEND;TZID=UTC:20241203T160000
DTSTAMP:20260423T083051
CREATED:20241028T185412Z
LAST-MODIFIED:20241028T185412Z
UID:6946-1733238000-1733241600@uwmdi.org
SUMMARY:Research Training Conference\, Research Spotlight - Ana Valencia
DESCRIPTION:F106\nTuesday\, December 3\, 2024\n3:00 – 4:00 PM\nZoom/in-person hybrid event.
URL:https://uwmdi.org/event/research-training-conference-research-spotlight-ana-valencia/
END:VEVENT
BEGIN:VEVENT
DTSTART;TZID=UTC:20241210T150000
DTEND;TZID=UTC:20241210T160000
DTSTAMP:20260423T083051
CREATED:20241028T185445Z
LAST-MODIFIED:20241028T185445Z
UID:6947-1733842800-1733846400@uwmdi.org
SUMMARY:Research Training Conference - Inma Velasco
DESCRIPTION:F106\nTuesday\, December 10\, 2024\n3:00 – 4:00 PM\nZoom/in-person hybrid event.
URL:https://uwmdi.org/event/research-training-conference-inma-velasco-2/
END:VEVENT
BEGIN:VEVENT
DTSTART;TZID=UTC:20241212T130000
DTEND;TZID=UTC:20241212T170000
DTSTAMP:20260423T083051
CREATED:20241028T191837Z
LAST-MODIFIED:20241028T191837Z
UID:6976-1734008400-1734022800@uwmdi.org
SUMMARY:NORC/CORA Seminar – Developmental Origins of Obesity and Metabolic Disease: Translational & Public Health Perspectives
DESCRIPTION:Register for Event
URL:https://uwmdi.org/event/norc-cora-seminar-developmental-origins-of-obesity-and-metabolic-disease-translational-public-health-perspectives/
END:VEVENT
BEGIN:VEVENT
DTSTART;TZID=UTC:20241217T150000
DTEND;TZID=UTC:20241217T163000
DTSTAMP:20260423T083051
CREATED:20241028T185524Z
LAST-MODIFIED:20241028T185524Z
UID:6948-1734447600-1734453000@uwmdi.org
SUMMARY:Research Training Conference - Tips on Grant Writing and Social Hour
DESCRIPTION:F106\nTuesday\, December 17\, 2024\n3:00 – 4:30 PM\nZoom/in-person hybrid event.
URL:https://uwmdi.org/event/research-training-conference-tips-on-grant-writing-and-social-hour/
END:VEVENT
END:VCALENDAR